BEGIN:VCALENDAR
VERSION:2.0
PRODID:-//SportsBar WordPress Template - ECPv6.13.2.1//NONSGML v1.0//EN
CALSCALE:GREGORIAN
METHOD:PUBLISH
X-ORIGINAL-URL:https://terivinje.com/sportsbar
X-WR-CALDESC:Events for SportsBar WordPress Template
REFRESH-INTERVAL;VALUE=DURATION:PT1H
X-Robots-Tag:noindex
X-PUBLISHED-TTL:PT1H
BEGIN:VTIMEZONE
TZID:UTC
BEGIN:STANDARD
TZOFFSETFROM:+0000
TZOFFSETTO:+0000
TZNAME:UTC
DTSTART:20180101T000000
END:STANDARD
END:VTIMEZONE
BEGIN:VEVENT
DTSTART;TZID=UTC:20181104T190000
DTEND;TZID=UTC:20181104T233000
DTSTAMP:20260423T212106
CREATED:20181017T143317Z
LAST-MODIFIED:20181020T174059Z
UID:160-1541358000-1541374200@terivinje.com
SUMMARY:Rock Band
DESCRIPTION:Join us for great rock music.
URL:https://terivinje.com/sportsbar/event/rock-band/
LOCATION:Default Venue\, 7550 Sunwood Dr NW\, Ramsey\, MN\, 55303\, United States
END:VEVENT
BEGIN:VEVENT
DTSTART;TZID=UTC:20181028T193000
DTEND;TZID=UTC:20181028T193000
DTSTAMP:20260423T212106
CREATED:20181020T174229Z
LAST-MODIFIED:20181020T174229Z
UID:195-1540755000-1540755000@terivinje.com
SUMMARY:Halloween Party
DESCRIPTION:Join us for our annual Halloween Party! Prizes for best costumes. Food & Drink specials.
URL:https://terivinje.com/sportsbar/event/halloween-party/
LOCATION:Default Venue\, 7550 Sunwood Dr NW\, Ramsey\, MN\, 55303\, United States
END:VEVENT
BEGIN:VEVENT
DTSTART;TZID=UTC:20181027T190000
DTEND;TZID=UTC:20181027T233000
DTSTAMP:20260423T212106
CREATED:20181017T153521Z
LAST-MODIFIED:20181017T154509Z
UID:164-1540666800-1540683000@terivinje.com
SUMMARY:Country Band
DESCRIPTION:Join us for great country music!
URL:https://terivinje.com/sportsbar/event/country-band/
LOCATION:Default Venue\, 7550 Sunwood Dr NW\, Ramsey\, MN\, 55303\, United States
END:VEVENT
END:VCALENDAR